BEGIN:VCALENDAR
VERSION:2.0
PRODID:-//Tukios.com/
BEGIN:VEVENT
UID:96278cc0-4572-448e-957a-4a923e58e513@www.funeralandcremationservice.com
DTSTAMP:20260424T194512Z
DTSTART:20260429T210000Z
DTEND:20260429T230000Z
SUMMARY:Celebration of Life
DESCRIPTION:
URL:https://www.funeralandcremationservice.com/obituaries/catherine-leavitt
LOCATION:Olson Funeral Chapel 115 W 4th St  Rush City MN 55069
GEO:45.6850391;-92.9626807
END:VEVENT
END:VCALENDAR