BEGIN:VCALENDAR
VERSION:2.0
PRODID:-//Tukios.com/
BEGIN:VEVENT
UID:16079cbe-1135-4cd3-abec-67556fda79ae@www.funeralandcremationservice.com
DTSTAMP:20260420T211714Z
DTSTART:20260423T160000Z
DTEND:20260423T170000Z
SUMMARY:Mass
DESCRIPTION:
URL:https://www.funeralandcremationservice.com/obituaries/sharon-fix
LOCATION: 555 8th St SW  Pine City MN 55063
GEO:45.8237926;-92.9738829
END:VEVENT
END:VCALENDAR