BEGIN:VCALENDAR
VERSION:2.0
PRODID:-//Tukios.com/
BEGIN:VEVENT
UID:dc95f69a-0e18-4a0d-b473-c78f757aa453@www.funeralandcremationservice.com
DTSTAMP:20260420T211531Z
DTSTART:20260422T220000Z
DTEND:20260423T000000Z
SUMMARY:Visitation
DESCRIPTION:
URL:https://www.funeralandcremationservice.com/obituaries/sharon-fix
LOCATION: 665 3rd Ave SW  Pine City MN 55063
GEO:45.826795;-92.9715945
END:VEVENT
END:VCALENDAR