BEGIN:VCALENDAR
VERSION:2.0
PRODID:-//Tukios.com/
BEGIN:VEVENT
UID:2d516fd1-bd57-4775-949a-252520f8e21c@www.funeralandcremationservice.com
DTSTAMP:20260420T212605Z
DTSTART:20260423T150000Z
DTEND:20260423T160000Z
SUMMARY:Visitation
DESCRIPTION:
URL:https://www.funeralandcremationservice.com/obituaries/sharon-fix
LOCATION: 555 8th St SW  Pine City MN 55063
GEO:45.8237926;-92.9738829
END:VEVENT
END:VCALENDAR