BEGIN:VCALENDAR
VERSION:2.0
PRODID:-//Tukios.com/
BEGIN:VEVENT
UID:cdb4c32e-033c-47ab-8f4a-3c58ecb05b2e@www.funeralandcremationservice.com
DTSTAMP:20260420T212137Z
DTSTART:20260422T233000Z
DTEND:20260423T000000Z
SUMMARY:Rosary
DESCRIPTION:
URL:https://www.funeralandcremationservice.com/obituaries/sharon-fix
LOCATION: 665 3rd Ave SW  Pine City MN 55063
GEO:45.826795;-92.9715945
END:VEVENT
END:VCALENDAR